BEGIN:VCALENDAR
VERSION:2.0
PRODID:-//Ancient Order of Hibernians - ECPv5.8.2//NONSGML v1.0//EN
CALSCALE:GREGORIAN
METHOD:PUBLISH
X-WR-CALNAME:Ancient Order of Hibernians
X-ORIGINAL-URL:https://www.louisvilleirish.com
X-WR-CALDESC:Events for Ancient Order of Hibernians
BEGIN:VTIMEZONE
TZID:America/Kentucky/Louisville
BEGIN:DAYLIGHT
TZOFFSETFROM:-0500
TZOFFSETTO:-0400
TZNAME:EDT
DTSTART:20180311T070000
END:DAYLIGHT
BEGIN:STANDARD
TZOFFSETFROM:-0400
TZOFFSETTO:-0500
TZNAME:EST
DTSTART:20181104T060000
END:STANDARD
END:VTIMEZONE
BEGIN:VEVENT
DTSTART;TZID=America/Kentucky/Louisville:20180224T183000
DTEND;TZID=America/Kentucky/Louisville:20180224T230000
DTSTAMP:20260424T122813
CREATED:20161113T160434Z
LAST-MODIFIED:20170911T205154Z
UID:525-1519497000-1519513200@www.louisvilleirish.com
SUMMARY:2018 Annual Wearing O’ The Green
DESCRIPTION:Join us for the 2018 Annual Wearing O’ The Green being held Saturday February 24th.  Doors open at 6:00 PM at Frazier Hall on the campus of Bellarmine University.  Cocktail hour officially kicks off at 6:30 as we head into a 7:30 Beef Tips buffet dinner.  There will be a silent auction\, Barrel Of Cheer\, and door prizes.  Enjoy drinks\, dining and dancing as we raise money for a good cause and recognize local First Responders who serve and protect us daily. \n 
URL:https://www.louisvilleirish.com/event/wearing-o-green-2/
LOCATION:Amelia Brown Frazier Convocation Hall\, 2001 Newburg Rd\, Louisville\, KY\, 40205\, United States
END:VEVENT
END:VCALENDAR